Workbook
Name Debut: الإعدادات!$B$5
Name Suivi: الإعدادات!$B$6
Name Repos: الإعدادات!$B$7
Name Echeance: الإعدادات!$B$8
Name Aleas: الإعدادات!$B$9
Name Lots: الإعدادات!$A$13:$A$19

Sheet لوحة المشروع
B2: لوحة متابعة المشروع
B3: =الإعدادات!B3&" · تاريخ المتابعة "&TEXT(Suivi,"dd/mm/yyyy")&" · بيانات تجريبية"
B6: التقدم الفعلي (مرجّح بالميزانية) | E6: التقدم المخطط حتى اليوم | H6: المصروف حتى اليوم | K6: المتبقي من الغلاف
B7: =SUMPRODUCT('المخطط الزمني'!$J$5:$J$24,'المخطط الزمني'!$H$5:$H$24)/SUM('المخطط الزمني'!$J$5:$J$24) | E7: =SUMPRODUCT('المخطط الزمني'!$J$5:$J$24,(Suivi>='المخطط الزمني'!$G$5:$G$24)+(Suivi>='المخطط الزمني'!$E$5:$E$24)*(Suivi<'المخطط الزمني'!$G$5:$G$24)*(Suivi-'المخطط الزمني'!$E$5:$E$24)/('المخطط الزمني'!$G$5:$G$24-'المخطط الزمني'!$E$5:$E$24+1))/SUM('المخطط الزمني'!$J$5:$J$24) | H7: =SUM(المصاريف!E:E) | K7: =الميزانية!B13-SUM(المصاريف!E:E)
B8: الأعمال المنجزة فعليًا | E8: حسب المخطط الزمني | H8: =COUNT(المصاريف!E:E)&" عملية صرف" | K8: ="من أصل "&TEXT(الميزانية!B13,"#,##0")&" د.ج"
B10: مهام متأخرة | E10: مهام تحتاج متابعة | H10: مؤشر أداء التكلفة (CPI) | K10: أيام متبقية حتى الأجل
B11: =COUNTIF('المخطط الزمني'!$I$5:$I$24,"متأخرة") | E11: =COUNTIF('المخطط الزمني'!$I$5:$I$24,"تحتاج متابعة") | H11: =IFERROR(SUM(الميزانية!D4:D10)/SUM(الميزانية!C4:C10),0) | K11: =Echeance-Suivi
B12: ="من أصل "&COUNTA('المخطط الزمني'!$I$5:$I$24)&" مهمة" | E12: تقدّم أقل من المتوقع | H12: أكبر من 1 = إنفاق أقل من القيمة المنجزة | K12: ="الأجل: "&TEXT(Echeance,"dd/mm/yyyy")
B15: الإنفاق الشهري والتراكمي
B16: الشهر | C16: المصروف | E16: التراكمي
B17: 46082 | C17: =SUMIFS(المصاريف!$E:$E,المصاريف!$A:$A,">="&B17,المصاريف!$A:$A,"<"&EDATE(B17,1)) | E17: =IF(B17>Suivi,NA(),SUM($C$17:C17))
B18: 46113 | C18: =SUMIFS(المصاريف!$E:$E,المصاريف!$A:$A,">="&B18,المصاريف!$A:$A,"<"&EDATE(B18,1)) | E18: =IF(B18>Suivi,NA(),SUM($C$17:C18))
B19: 46143 | C19: =SUMIFS(المصاريف!$E:$E,المصاريف!$A:$A,">="&B19,المصاريف!$A:$A,"<"&EDATE(B19,1)) | E19: =IF(B19>Suivi,NA(),SUM($C$17:C19))
B20: 46174 | C20: =SUMIFS(المصاريف!$E:$E,المصاريف!$A:$A,">="&B20,المصاريف!$A:$A,"<"&EDATE(B20,1)) | E20: =IF(B20>Suivi,NA(),SUM($C$17:C20))
B21: 46204 | C21: =SUMIFS(المصاريف!$E:$E,المصاريف!$A:$A,">="&B21,المصاريف!$A:$A,"<"&EDATE(B21,1)) | E21: =IF(B21>Suivi,NA(),SUM($C$17:C21))
B22: 46235 | C22: =SUMIFS(المصاريف!$E:$E,المصاريف!$A:$A,">="&B22,المصاريف!$A:$A,"<"&EDATE(B22,1)) | E22: =IF(B22>Suivi,NA(),SUM($C$17:C22))
B23: 46266 | C23: =SUMIFS(المصاريف!$E:$E,المصاريف!$A:$A,">="&B23,المصاريف!$A:$A,"<"&EDATE(B23,1)) | E23: =IF(B23>Suivi,NA(),SUM($C$17:C23))
B24: 46296 | C24: =SUMIFS(المصاريف!$E:$E,المصاريف!$A:$A,">="&B24,المصاريف!$A:$A,"<"&EDATE(B24,1)) | E24: =IF(B24>Suivi,NA(),SUM($C$17:C24))
B25: 46327 | C25: =SUMIFS(المصاريف!$E:$E,المصاريف!$A:$A,">="&B25,المصاريف!$A:$A,"<"&EDATE(B25,1)) | E25: =IF(B25>Suivi,NA(),SUM($C$17:C25))
B26: 46357 | C26: =SUMIFS(المصاريف!$E:$E,المصاريف!$A:$A,">="&B26,المصاريف!$A:$A,"<"&EDATE(B26,1)) | E26: =IF(B26>Suivi,NA(),SUM($C$17:C26))
B27: 46388 | C27: =SUMIFS(المصاريف!$E:$E,المصاريف!$A:$A,">="&B27,المصاريف!$A:$A,"<"&EDATE(B27,1)) | E27: =IF(B27>Suivi,NA(),SUM($C$17:C27))
B28: 46419 | C28: =SUMIFS(المصاريف!$E:$E,المصاريف!$A:$A,">="&B28,المصاريف!$A:$A,"<"&EDATE(B28,1)) | E28: =IF(B28>Suivi,NA(),SUM($C$17:C28))
B29: 46447 | C29: =SUMIFS(المصاريف!$E:$E,المصاريف!$A:$A,">="&B29,المصاريف!$A:$A,"<"&EDATE(B29,1)) | E29: =IF(B29>Suivi,NA(),SUM($C$17:C29))
B32: حالة المهام | E32: المهام القادمة (حسب تاريخ البداية)
B33: مكتملة | C33: =COUNTIF('المخطط الزمني'!$I$5:$I$24,B33) | E33: {=IFERROR(INDEX('المخطط الزمني'!$B$5:$B$24,MATCH(SMALL(IF('المخطط الزمني'!$E$5:$E$24>Suivi,'المخطط الزمني'!$E$5:$E$24+ROW('المخطط الزمني'!$E$5:$E$24)/1000),1),'المخطط الزمني'!$E$5:$E$24+ROW('المخطط الزمني'!$E$5:$E$24)/1000,0)),"")} | J33: {=IFERROR(INDEX('المخطط الزمني'!$E$5:$E$24,MATCH(SMALL(IF('المخطط الزمني'!$E$5:$E$24>Suivi,'المخطط الزمني'!$E$5:$E$24+ROW('المخطط الزمني'!$E$5:$E$24)/1000),1),'المخطط الزمني'!$E$5:$E$24+ROW('المخطط الزمني'!$E$5:$E$24)/1000,0)),"")}
B34: جارية | C34: =COUNTIF('المخطط الزمني'!$I$5:$I$24,B34) | E34: {=IFERROR(INDEX('المخطط الزمني'!$B$5:$B$24,MATCH(SMALL(IF('المخطط الزمني'!$E$5:$E$24>Suivi,'المخطط الزمني'!$E$5:$E$24+ROW('المخطط الزمني'!$E$5:$E$24)/1000),2),'المخطط الزمني'!$E$5:$E$24+ROW('المخطط الزمني'!$E$5:$E$24)/1000,0)),"")} | J34: {=IFERROR(INDEX('المخطط الزمني'!$E$5:$E$24,MATCH(SMALL(IF('المخطط الزمني'!$E$5:$E$24>Suivi,'المخطط الزمني'!$E$5:$E$24+ROW('المخطط الزمني'!$E$5:$E$24)/1000),2),'المخطط الزمني'!$E$5:$E$24+ROW('المخطط الزمني'!$E$5:$E$24)/1000,0)),"")}
B35: تحتاج متابعة | C35: =COUNTIF('المخطط الزمني'!$I$5:$I$24,B35) | E35: {=IFERROR(INDEX('المخطط الزمني'!$B$5:$B$24,MATCH(SMALL(IF('المخطط الزمني'!$E$5:$E$24>Suivi,'المخطط الزمني'!$E$5:$E$24+ROW('المخطط الزمني'!$E$5:$E$24)/1000),3),'المخطط الزمني'!$E$5:$E$24+ROW('المخطط الزمني'!$E$5:$E$24)/1000,0)),"")} | J35: {=IFERROR(INDEX('المخطط الزمني'!$E$5:$E$24,MATCH(SMALL(IF('المخطط الزمني'!$E$5:$E$24>Suivi,'المخطط الزمني'!$E$5:$E$24+ROW('المخطط الزمني'!$E$5:$E$24)/1000),3),'المخطط الزمني'!$E$5:$E$24+ROW('المخطط الزمني'!$E$5:$E$24)/1000,0)),"")}
B36: متأخرة | C36: =COUNTIF('المخطط الزمني'!$I$5:$I$24,B36) | E36: {=IFERROR(INDEX('المخطط الزمني'!$B$5:$B$24,MATCH(SMALL(IF('المخطط الزمني'!$E$5:$E$24>Suivi,'المخطط الزمني'!$E$5:$E$24+ROW('المخطط الزمني'!$E$5:$E$24)/1000),4),'المخطط الزمني'!$E$5:$E$24+ROW('المخطط الزمني'!$E$5:$E$24)/1000,0)),"")} | J36: {=IFERROR(INDEX('المخطط الزمني'!$E$5:$E$24,MATCH(SMALL(IF('المخطط الزمني'!$E$5:$E$24>Suivi,'المخطط الزمني'!$E$5:$E$24+ROW('المخطط الزمني'!$E$5:$E$24)/1000),4),'المخطط الزمني'!$E$5:$E$24+ROW('المخطط الزمني'!$E$5:$E$24)/1000,0)),"")}
B37: لم تبدأ | C37: =COUNTIF('المخطط الزمني'!$I$5:$I$24,B37) | E37: {=IFERROR(INDEX('المخطط الزمني'!$B$5:$B$24,MATCH(SMALL(IF('المخطط الزمني'!$E$5:$E$24>Suivi,'المخطط الزمني'!$E$5:$E$24+ROW('المخطط الزمني'!$E$5:$E$24)/1000),5),'المخطط الزمني'!$E$5:$E$24+ROW('المخطط الزمني'!$E$5:$E$24)/1000,0)),"")} | J37: {=IFERROR(INDEX('المخطط الزمني'!$E$5:$E$24,MATCH(SMALL(IF('المخطط الزمني'!$E$5:$E$24>Suivi,'المخطط الزمني'!$E$5:$E$24+ROW('المخطط الزمني'!$E$5:$E$24)/1000),5),'المخطط الزمني'!$E$5:$E$24+ROW('المخطط الزمني'!$E$5:$E$24)/1000,0)),"")}

Sheet المخطط الزمني
A1: المخطط الزمني للأشغال (Gantt)
A2: أدخل البداية والمدة ونسبة الإنجاز فقط — النهاية والحالة والأشرطة تُحسب تلقائيًا. الأسابيع تبدأ يوم الإثنين.
L3: مارس 2026 | Q3: أفريل | U3: ماي | Y3: جوان | AD3: جويلية | AH3: أوت | AM3: سبتمبر | AQ3: أكتوبر | AU3: نوفمبر | AZ3: ديسمبر | BD3: جانفي 2027 | BH3: فيفري | BL3: مارس
A4: # | B4: المهمة | C4: الحصة | D4: المسؤول | E4: البداية | F4: المدة (يوم عمل) | G4: النهاية | H4: الإنجاز | I4: الحالة | J4: الميزانية | L4: =Debut | M4: =Debut+7 | N4: =Debut+14 | O4: =Debut+21 | P4: =Debut+28 | Q4: =Debut+35 | R4: =Debut+42 | S4: =Debut+49 | T4: =Debut+56 | U4: =Debut+63 | V4: =Debut+70 | W4: =Debut+77 | X4: =Debut+84 | Y4: =Debut+91 | Z4: =Debut+98 | AA4: =Debut+105 | AB4: =Debut+112 | AC4: =Debut+119 | AD4: =Debut+126 | AE4: =Debut+133 | AF4: =Debut+140 | AG4: =Debut+147 | AH4: =Debut+154 | AI4: =Debut+161 | AJ4: =Debut+168 | AK4: =Debut+175 | AL4: =Debut+182 | AM4: =Debut+189 | AN4: =Debut+196 | AO4: =Debut+203 | AP4: =Debut+210 | AQ4: =Debut+217 | AR4: =Debut+224 | AS4: =Debut+231 | AT4: =Debut+238 | AU4: =Debut+245 | AV4: =Debut+252 | AW4: =Debut+259 | AX4: =Debut+266 | AY4: =Debut+273 | AZ4: =Debut+280 | BA4: =Debut+287 | BB4: =Debut+294 | BC4: =Debut+301 | BD4: =Debut+308 | BE4: =Debut+315 | BF4: =Debut+322 | BG4: =Debut+329 | BH4: =Debut+336 | BI4: =Debut+343 | BJ4: =Debut+350 | BK4: =Debut+357 | BL4: =Debut+364 | BM4: =Debut+371 | BN4: =Debut+378 | BO4: =Debut+385
A5: 1 | B5: الدراسة المعمارية والهندسية | C5: دراسات وتراخيص | D5: مكتب الدراسات | E5: 46083 | F5: 27 | G5: =WORKDAY.INTL(E5,F5-1,Repos) | H5: 1 | I5: =IF(H5>=1,"مكتملة",IF(AND(Suivi>G5,H5<1),"متأخرة",IF(Suivi<E5,"لم تبدأ",IF(H5+0.15<(Suivi-E5)/MAX(1,G5-E5),"تحتاج متابعة","جارية")))) | J5: 650000 | L5: =IF(AND(L$4<=$G5,L$4+6>=$E5),IF(OR($H5>=1,AND($H5>0,L$4+3<$E5+($G5-$E5+1)*$H5)),2,1),IF(AND(Suivi>=L$4,Suivi<L$4+7),3,0)) | M5: =IF(AND(M$4<=$G5,M$4+6>=$E5),IF(OR($H5>=1,AND($H5>0,M$4+3<$E5+($G5-$E5+1)*$H5)),2,1),IF(AND(Suivi>=M$4,Suivi<M$4+7),3,0)) | N5: =IF(AND(N$4<=$G5,N$4+6>=$E5),IF(OR($H5>=1,AND($H5>0,N$4+3<$E5+($G5-$E5+1)*$H5)),2,1),IF(AND(Suivi>=N$4,Suivi<N$4+7),3,0)) | O5: =IF(AND(O$4<=$G5,O$4+6>=$E5),IF(OR($H5>=1,AND($H5>0,O$4+3<$E5+($G5-$E5+1)*$H5)),2,1),IF(AND(Suivi>=O$4,Suivi<O$4+7),3,0)) | P5: =IF(AND(P$4<=$G5,P$4+6>=$E5),IF(OR($H5>=1,AND($H5>0,P$4+3<$E5+($G5-$E5+1)*$H5)),2,1),IF(AND(Suivi>=P$4,Suivi<P$4+7),3,0)) | Q5: =IF(AND(Q$4<=$G5,Q$4+6>=$E5),IF(OR($H5>=1,AND($H5>0,Q$4+3<$E5+($G5-$E5+1)*$H5)),2,1),IF(AND(Suivi>=Q$4,Suivi<Q$4+7),3,0)) | R5: =IF(AND(R$4<=$G5,R$4+6>=$E5),IF(OR($H5>=1,AND($H5>0,R$4+3<$E5+($G5-$E5+1)*$H5)),2,1),IF(AND(Suivi>=R$4,Suivi<R$4+7),3,0)) | S5: =IF(AND(S$4<=$G5,S$4+6>=$E5),IF(OR($H5>=1,AND($H5>0,S$4+3<$E5+($G5-$E5+1)*$H5)),2,1),IF(AND(Suivi>=S$4,Suivi<S$4+7),3,0)) | ... BO5: =IF(AND(BO$4<=$G5,BO$4+6>=$E5),IF(OR($H5>=1,AND($H5>0,BO$4+3<$E5+($G5-$E5+1)*$H5)),2,1),IF(AND(Suivi>=BO$4,Suivi<BO$4+7),3,0))
A6: 2 | B6: رخصة البناء والملف الإداري | C6: دراسات وتراخيص | D6: صاحب المشروع | E6: 46114 | F6: 30 | G6: =WORKDAY.INTL(E6,F6-1,Repos) | H6: 1 | I6: =IF(H6>=1,"مكتملة",IF(AND(Suivi>G6,H6<1),"متأخرة",IF(Suivi<E6,"لم تبدأ",IF(H6+0.15<(Suivi-E6)/MAX(1,G6-E6),"تحتاج متابعة","جارية")))) | J6: 120000 | L6: =IF(AND(L$4<=$G6,L$4+6>=$E6),IF(OR($H6>=1,AND($H6>0,L$4+3<$E6+($G6-$E6+1)*$H6)),2,1),IF(AND(Suivi>=L$4,Suivi<L$4+7),3,0)) | M6: =IF(AND(M$4<=$G6,M$4+6>=$E6),IF(OR($H6>=1,AND($H6>0,M$4+3<$E6+($G6-$E6+1)*$H6)),2,1),IF(AND(Suivi>=M$4,Suivi<M$4+7),3,0)) | N6: =IF(AND(N$4<=$G6,N$4+6>=$E6),IF(OR($H6>=1,AND($H6>0,N$4+3<$E6+($G6-$E6+1)*$H6)),2,1),IF(AND(Suivi>=N$4,Suivi<N$4+7),3,0)) | O6: =IF(AND(O$4<=$G6,O$4+6>=$E6),IF(OR($H6>=1,AND($H6>0,O$4+3<$E6+($G6-$E6+1)*$H6)),2,1),IF(AND(Suivi>=O$4,Suivi<O$4+7),3,0)) | P6: =IF(AND(P$4<=$G6,P$4+6>=$E6),IF(OR($H6>=1,AND($H6>0,P$4+3<$E6+($G6-$E6+1)*$H6)),2,1),IF(AND(Suivi>=P$4,Suivi<P$4+7),3,0)) | Q6: =IF(AND(Q$4<=$G6,Q$4+6>=$E6),IF(OR($H6>=1,AND($H6>0,Q$4+3<$E6+($G6-$E6+1)*$H6)),2,1),IF(AND(Suivi>=Q$4,Suivi<Q$4+7),3,0)) | R6: =IF(AND(R$4<=$G6,R$4+6>=$E6),IF(OR($H6>=1,AND($H6>0,R$4+3<$E6+($G6-$E6+1)*$H6)),2,1),IF(AND(Suivi>=R$4,Suivi<R$4+7),3,0)) | S6: =IF(AND(S$4<=$G6,S$4+6>=$E6),IF(OR($H6>=1,AND($H6>0,S$4+3<$E6+($G6-$E6+1)*$H6)),2,1),IF(AND(Suivi>=S$4,Suivi<S$4+7),3,0)) | ... BO6: =IF(AND(BO$4<=$G6,BO$4+6>=$E6),IF(OR($H6>=1,AND($H6>0,BO$4+3<$E6+($G6-$E6+1)*$H6)),2,1),IF(AND(Suivi>=BO$4,Suivi<BO$4+7),3,0))
A7: 3 | B7: تهيئة الأرضية والحفر | C7: أشغال كبرى | D7: فريق الأشغال الكبرى | E7: 46149 | F7: 12 | G7: =WORKDAY.INTL(E7,F7-1,Repos) | H7: 1 | I7: =IF(H7>=1,"مكتملة",IF(AND(Suivi>G7,H7<1),"متأخرة",IF(Suivi<E7,"لم تبدأ",IF(H7+0.15<(Suivi-E7)/MAX(1,G7-E7),"تحتاج متابعة","جارية")))) | J7: 780000 | L7: =IF(AND(L$4<=$G7,L$4+6>=$E7),IF(OR($H7>=1,AND($H7>0,L$4+3<$E7+($G7-$E7+1)*$H7)),2,1),IF(AND(Suivi>=L$4,Suivi<L$4+7),3,0)) | M7: =IF(AND(M$4<=$G7,M$4+6>=$E7),IF(OR($H7>=1,AND($H7>0,M$4+3<$E7+($G7-$E7+1)*$H7)),2,1),IF(AND(Suivi>=M$4,Suivi<M$4+7),3,0)) | N7: =IF(AND(N$4<=$G7,N$4+6>=$E7),IF(OR($H7>=1,AND($H7>0,N$4+3<$E7+($G7-$E7+1)*$H7)),2,1),IF(AND(Suivi>=N$4,Suivi<N$4+7),3,0)) | O7: =IF(AND(O$4<=$G7,O$4+6>=$E7),IF(OR($H7>=1,AND($H7>0,O$4+3<$E7+($G7-$E7+1)*$H7)),2,1),IF(AND(Suivi>=O$4,Suivi<O$4+7),3,0)) | P7: =IF(AND(P$4<=$G7,P$4+6>=$E7),IF(OR($H7>=1,AND($H7>0,P$4+3<$E7+($G7-$E7+1)*$H7)),2,1),IF(AND(Suivi>=P$4,Suivi<P$4+7),3,0)) | Q7: =IF(AND(Q$4<=$G7,Q$4+6>=$E7),IF(OR($H7>=1,AND($H7>0,Q$4+3<$E7+($G7-$E7+1)*$H7)),2,1),IF(AND(Suivi>=Q$4,Suivi<Q$4+7),3,0)) | R7: =IF(AND(R$4<=$G7,R$4+6>=$E7),IF(OR($H7>=1,AND($H7>0,R$4+3<$E7+($G7-$E7+1)*$H7)),2,1),IF(AND(Suivi>=R$4,Suivi<R$4+7),3,0)) | S7: =IF(AND(S$4<=$G7,S$4+6>=$E7),IF(OR($H7>=1,AND($H7>0,S$4+3<$E7+($G7-$E7+1)*$H7)),2,1),IF(AND(Suivi>=S$4,Suivi<S$4+7),3,0)) | ... BO7: =IF(AND(BO$4<=$G7,BO$4+6>=$E7),IF(OR($H7>=1,AND($H7>0,BO$4+3<$E7+($G7-$E7+1)*$H7)),2,1),IF(AND(Suivi>=BO$4,Suivi<BO$4+7),3,0))
A8: 4 | B8: الأساسات والقواعد | C8: أشغال كبرى | D8: فريق الأشغال الكبرى | E8: 46163 | F8: 22 | G8: =WORKDAY.INTL(E8,F8-1,Repos) | H8: 1 | I8: =IF(H8>=1,"مكتملة",IF(AND(Suivi>G8,H8<1),"متأخرة",IF(Suivi<E8,"لم تبدأ",IF(H8+0.15<(Suivi-E8)/MAX(1,G8-E8),"تحتاج متابعة","جارية")))) | J8: 2600000 | L8: =IF(AND(L$4<=$G8,L$4+6>=$E8),IF(OR($H8>=1,AND($H8>0,L$4+3<$E8+($G8-$E8+1)*$H8)),2,1),IF(AND(Suivi>=L$4,Suivi<L$4+7),3,0)) | M8: =IF(AND(M$4<=$G8,M$4+6>=$E8),IF(OR($H8>=1,AND($H8>0,M$4+3<$E8+($G8-$E8+1)*$H8)),2,1),IF(AND(Suivi>=M$4,Suivi<M$4+7),3,0)) | N8: =IF(AND(N$4<=$G8,N$4+6>=$E8),IF(OR($H8>=1,AND($H8>0,N$4+3<$E8+($G8-$E8+1)*$H8)),2,1),IF(AND(Suivi>=N$4,Suivi<N$4+7),3,0)) | O8: =IF(AND(O$4<=$G8,O$4+6>=$E8),IF(OR($H8>=1,AND($H8>0,O$4+3<$E8+($G8-$E8+1)*$H8)),2,1),IF(AND(Suivi>=O$4,Suivi<O$4+7),3,0)) | P8: =IF(AND(P$4<=$G8,P$4+6>=$E8),IF(OR($H8>=1,AND($H8>0,P$4+3<$E8+($G8-$E8+1)*$H8)),2,1),IF(AND(Suivi>=P$4,Suivi<P$4+7),3,0)) | Q8: =IF(AND(Q$4<=$G8,Q$4+6>=$E8),IF(OR($H8>=1,AND($H8>0,Q$4+3<$E8+($G8-$E8+1)*$H8)),2,1),IF(AND(Suivi>=Q$4,Suivi<Q$4+7),3,0)) | R8: =IF(AND(R$4<=$G8,R$4+6>=$E8),IF(OR($H8>=1,AND($H8>0,R$4+3<$E8+($G8-$E8+1)*$H8)),2,1),IF(AND(Suivi>=R$4,Suivi<R$4+7),3,0)) | S8: =IF(AND(S$4<=$G8,S$4+6>=$E8),IF(OR($H8>=1,AND($H8>0,S$4+3<$E8+($G8-$E8+1)*$H8)),2,1),IF(AND(Suivi>=S$4,Suivi<S$4+7),3,0)) | ... BO8: =IF(AND(BO$4<=$G8,BO$4+6>=$E8),IF(OR($H8>=1,AND($H8>0,BO$4+3<$E8+($G8-$E8+1)*$H8)),2,1),IF(AND(Suivi>=BO$4,Suivi<BO$4+7),3,0))
A9: 5 | B9: هيكل الطابق الأرضي | C9: أشغال كبرى | D9: فريق الأشغال الكبرى | E9: 46189 | F9: 27 | G9: =WORKDAY.INTL(E9,F9-1,Repos) | H9: 1 | I9: =IF(H9>=1,"مكتملة",IF(AND(Suivi>G9,H9<1),"متأخرة",IF(Suivi<E9,"لم تبدأ",IF(H9+0.15<(Suivi-E9)/MAX(1,G9-E9),"تحتاج متابعة","جارية")))) | J9: 2900000 | L9: =IF(AND(L$4<=$G9,L$4+6>=$E9),IF(OR($H9>=1,AND($H9>0,L$4+3<$E9+($G9-$E9+1)*$H9)),2,1),IF(AND(Suivi>=L$4,Suivi<L$4+7),3,0)) | M9: =IF(AND(M$4<=$G9,M$4+6>=$E9),IF(OR($H9>=1,AND($H9>0,M$4+3<$E9+($G9-$E9+1)*$H9)),2,1),IF(AND(Suivi>=M$4,Suivi<M$4+7),3,0)) | N9: =IF(AND(N$4<=$G9,N$4+6>=$E9),IF(OR($H9>=1,AND($H9>0,N$4+3<$E9+($G9-$E9+1)*$H9)),2,1),IF(AND(Suivi>=N$4,Suivi<N$4+7),3,0)) | O9: =IF(AND(O$4<=$G9,O$4+6>=$E9),IF(OR($H9>=1,AND($H9>0,O$4+3<$E9+($G9-$E9+1)*$H9)),2,1),IF(AND(Suivi>=O$4,Suivi<O$4+7),3,0)) | P9: =IF(AND(P$4<=$G9,P$4+6>=$E9),IF(OR($H9>=1,AND($H9>0,P$4+3<$E9+($G9-$E9+1)*$H9)),2,1),IF(AND(Suivi>=P$4,Suivi<P$4+7),3,0)) | Q9: =IF(AND(Q$4<=$G9,Q$4+6>=$E9),IF(OR($H9>=1,AND($H9>0,Q$4+3<$E9+($G9-$E9+1)*$H9)),2,1),IF(AND(Suivi>=Q$4,Suivi<Q$4+7),3,0)) | R9: =IF(AND(R$4<=$G9,R$4+6>=$E9),IF(OR($H9>=1,AND($H9>0,R$4+3<$E9+($G9-$E9+1)*$H9)),2,1),IF(AND(Suivi>=R$4,Suivi<R$4+7),3,0)) | S9: =IF(AND(S$4<=$G9,S$4+6>=$E9),IF(OR($H9>=1,AND($H9>0,S$4+3<$E9+($G9-$E9+1)*$H9)),2,1),IF(AND(Suivi>=S$4,Suivi<S$4+7),3,0)) | ... BO9: =IF(AND(BO$4<=$G9,BO$4+6>=$E9),IF(OR($H9>=1,AND($H9>0,BO$4+3<$E9+($G9-$E9+1)*$H9)),2,1),IF(AND(Suivi>=BO$4,Suivi<BO$4+7),3,0))
A10: 6 | B10: هيكل الطابق الأول | C10: أشغال كبرى | D10: فريق الأشغال الكبرى | E10: 46221 | F10: 24 | G10: =WORKDAY.INTL(E10,F10-1,Repos) | H10: 1 | I10: =IF(H10>=1,"مكتملة",IF(AND(Suivi>G10,H10<1),"متأخرة",IF(Suivi<E10,"لم تبدأ",IF(H10+0.15<(Suivi-E10)/MAX(1,G10-E10),"تحتاج متابعة","جارية")))) | J10: 2700000 | L10: =IF(AND(L$4<=$G10,L$4+6>=$E10),IF(OR($H10>=1,AND($H10>0,L$4+3<$E10+($G10-$E10+1)*$H10)),2,1),IF(AND(Suivi>=L$4,Suivi<L$4+7),3,0)) | M10: =IF(AND(M$4<=$G10,M$4+6>=$E10),IF(OR($H10>=1,AND($H10>0,M$4+3<$E10+($G10-$E10+1)*$H10)),2,1),IF(AND(Suivi>=M$4,Suivi<M$4+7),3,0)) | N10: =IF(AND(N$4<=$G10,N$4+6>=$E10),IF(OR($H10>=1,AND($H10>0,N$4+3<$E10+($G10-$E10+1)*$H10)),2,1),IF(AND(Suivi>=N$4,Suivi<N$4+7),3,0)) | O10: =IF(AND(O$4<=$G10,O$4+6>=$E10),IF(OR($H10>=1,AND($H10>0,O$4+3<$E10+($G10-$E10+1)*$H10)),2,1),IF(AND(Suivi>=O$4,Suivi<O$4+7),3,0)) | P10: =IF(AND(P$4<=$G10,P$4+6>=$E10),IF(OR($H10>=1,AND($H10>0,P$4+3<$E10+($G10-$E10+1)*$H10)),2,1),IF(AND(Suivi>=P$4,Suivi<P$4+7),3,0)) | Q10: =IF(AND(Q$4<=$G10,Q$4+6>=$E10),IF(OR($H10>=1,AND($H10>0,Q$4+3<$E10+($G10-$E10+1)*$H10)),2,1),IF(AND(Suivi>=Q$4,Suivi<Q$4+7),3,0)) | R10: =IF(AND(R$4<=$G10,R$4+6>=$E10),IF(OR($H10>=1,AND($H10>0,R$4+3<$E10+($G10-$E10+1)*$H10)),2,1),IF(AND(Suivi>=R$4,Suivi<R$4+7),3,0)) | S10: =IF(AND(S$4<=$G10,S$4+6>=$E10),IF(OR($H10>=1,AND($H10>0,S$4+3<$E10+($G10-$E10+1)*$H10)),2,1),IF(AND(Suivi>=S$4,Suivi<S$4+7),3,0)) | ... BO10: =IF(AND(BO$4<=$G10,BO$4+6>=$E10),IF(OR($H10>=1,AND($H10>0,BO$4+3<$E10+($G10-$E10+1)*$H10)),2,1),IF(AND(Suivi>=BO$4,Suivi<BO$4+7),3,0))
A11: 7 | B11: هيكل الطابق الثاني والسطح | C11: أشغال كبرى | D11: فريق الأشغال الكبرى | E11: 46249 | F11: 27 | G11: =WORKDAY.INTL(E11,F11-1,Repos) | H11: 1 | I11: =IF(H11>=1,"مكتملة",IF(AND(Suivi>G11,H11<1),"متأخرة",IF(Suivi<E11,"لم تبدأ",IF(H11+0.15<(Suivi-E11)/MAX(1,G11-E11),"تحتاج متابعة","جارية")))) | J11: 3100000 | L11: =IF(AND(L$4<=$G11,L$4+6>=$E11),IF(OR($H11>=1,AND($H11>0,L$4+3<$E11+($G11-$E11+1)*$H11)),2,1),IF(AND(Suivi>=L$4,Suivi<L$4+7),3,0)) | M11: =IF(AND(M$4<=$G11,M$4+6>=$E11),IF(OR($H11>=1,AND($H11>0,M$4+3<$E11+($G11-$E11+1)*$H11)),2,1),IF(AND(Suivi>=M$4,Suivi<M$4+7),3,0)) | N11: =IF(AND(N$4<=$G11,N$4+6>=$E11),IF(OR($H11>=1,AND($H11>0,N$4+3<$E11+($G11-$E11+1)*$H11)),2,1),IF(AND(Suivi>=N$4,Suivi<N$4+7),3,0)) | O11: =IF(AND(O$4<=$G11,O$4+6>=$E11),IF(OR($H11>=1,AND($H11>0,O$4+3<$E11+($G11-$E11+1)*$H11)),2,1),IF(AND(Suivi>=O$4,Suivi<O$4+7),3,0)) | P11: =IF(AND(P$4<=$G11,P$4+6>=$E11),IF(OR($H11>=1,AND($H11>0,P$4+3<$E11+($G11-$E11+1)*$H11)),2,1),IF(AND(Suivi>=P$4,Suivi<P$4+7),3,0)) | Q11: =IF(AND(Q$4<=$G11,Q$4+6>=$E11),IF(OR($H11>=1,AND($H11>0,Q$4+3<$E11+($G11-$E11+1)*$H11)),2,1),IF(AND(Suivi>=Q$4,Suivi<Q$4+7),3,0)) | R11: =IF(AND(R$4<=$G11,R$4+6>=$E11),IF(OR($H11>=1,AND($H11>0,R$4+3<$E11+($G11-$E11+1)*$H11)),2,1),IF(AND(Suivi>=R$4,Suivi<R$4+7),3,0)) | S11: =IF(AND(S$4<=$G11,S$4+6>=$E11),IF(OR($H11>=1,AND($H11>0,S$4+3<$E11+($G11-$E11+1)*$H11)),2,1),IF(AND(Suivi>=S$4,Suivi<S$4+7),3,0)) | ... BO11: =IF(AND(BO$4<=$G11,BO$4+6>=$E11),IF(OR($H11>=1,AND($H11>0,BO$4+3<$E11+($G11-$E11+1)*$H11)),2,1),IF(AND(Suivi>=BO$4,Suivi<BO$4+7),3,0))
A12: 8 | B12: الجدران والبناء الداخلي | C12: بناء وعزل | D12: فريق البناء | E12: 46228 | F12: 45 | G12: =WORKDAY.INTL(E12,F12-1,Repos) | H12: 1 | I12: =IF(H12>=1,"مكتملة",IF(AND(Suivi>G12,H12<1),"متأخرة",IF(Suivi<E12,"لم تبدأ",IF(H12+0.15<(Suivi-E12)/MAX(1,G12-E12),"تحتاج متابعة","جارية")))) | J12: 1850000 | L12: =IF(AND(L$4<=$G12,L$4+6>=$E12),IF(OR($H12>=1,AND($H12>0,L$4+3<$E12+($G12-$E12+1)*$H12)),2,1),IF(AND(Suivi>=L$4,Suivi<L$4+7),3,0)) | M12: =IF(AND(M$4<=$G12,M$4+6>=$E12),IF(OR($H12>=1,AND($H12>0,M$4+3<$E12+($G12-$E12+1)*$H12)),2,1),IF(AND(Suivi>=M$4,Suivi<M$4+7),3,0)) | N12: =IF(AND(N$4<=$G12,N$4+6>=$E12),IF(OR($H12>=1,AND($H12>0,N$4+3<$E12+($G12-$E12+1)*$H12)),2,1),IF(AND(Suivi>=N$4,Suivi<N$4+7),3,0)) | O12: =IF(AND(O$4<=$G12,O$4+6>=$E12),IF(OR($H12>=1,AND($H12>0,O$4+3<$E12+($G12-$E12+1)*$H12)),2,1),IF(AND(Suivi>=O$4,Suivi<O$4+7),3,0)) | P12: =IF(AND(P$4<=$G12,P$4+6>=$E12),IF(OR($H12>=1,AND($H12>0,P$4+3<$E12+($G12-$E12+1)*$H12)),2,1),IF(AND(Suivi>=P$4,Suivi<P$4+7),3,0)) | Q12: =IF(AND(Q$4<=$G12,Q$4+6>=$E12),IF(OR($H12>=1,AND($H12>0,Q$4+3<$E12+($G12-$E12+1)*$H12)),2,1),IF(AND(Suivi>=Q$4,Suivi<Q$4+7),3,0)) | R12: =IF(AND(R$4<=$G12,R$4+6>=$E12),IF(OR($H12>=1,AND($H12>0,R$4+3<$E12+($G12-$E12+1)*$H12)),2,1),IF(AND(Suivi>=R$4,Suivi<R$4+7),3,0)) | S12: =IF(AND(S$4<=$G12,S$4+6>=$E12),IF(OR($H12>=1,AND($H12>0,S$4+3<$E12+($G12-$E12+1)*$H12)),2,1),IF(AND(Suivi>=S$4,Suivi<S$4+7),3,0)) | ... BO12: =IF(AND(BO$4<=$G12,BO$4+6>=$E12),IF(OR($H12>=1,AND($H12>0,BO$4+3<$E12+($G12-$E12+1)*$H12)),2,1),IF(AND(Suivi>=BO$4,Suivi<BO$4+7),3,0))
A13: 9 | B13: العزل الحراري والمائي للسطح | C13: بناء وعزل | D13: مقاول العزل | E13: 46280 | F13: 12 | G13: =WORKDAY.INTL(E13,F13-1,Repos) | H13: 1 | I13: =IF(H13>=1,"مكتملة",IF(AND(Suivi>G13,H13<1),"متأخرة",IF(Suivi<E13,"لم تبدأ",IF(H13+0.15<(Suivi-E13)/MAX(1,G13-E13),"تحتاج متابعة","جارية")))) | J13: 720000 | L13: =IF(AND(L$4<=$G13,L$4+6>=$E13),IF(OR($H13>=1,AND($H13>0,L$4+3<$E13+($G13-$E13+1)*$H13)),2,1),IF(AND(Suivi>=L$4,Suivi<L$4+7),3,0)) | M13: =IF(AND(M$4<=$G13,M$4+6>=$E13),IF(OR($H13>=1,AND($H13>0,M$4+3<$E13+($G13-$E13+1)*$H13)),2,1),IF(AND(Suivi>=M$4,Suivi<M$4+7),3,0)) | N13: =IF(AND(N$4<=$G13,N$4+6>=$E13),IF(OR($H13>=1,AND($H13>0,N$4+3<$E13+($G13-$E13+1)*$H13)),2,1),IF(AND(Suivi>=N$4,Suivi<N$4+7),3,0)) | O13: =IF(AND(O$4<=$G13,O$4+6>=$E13),IF(OR($H13>=1,AND($H13>0,O$4+3<$E13+($G13-$E13+1)*$H13)),2,1),IF(AND(Suivi>=O$4,Suivi<O$4+7),3,0)) | P13: =IF(AND(P$4<=$G13,P$4+6>=$E13),IF(OR($H13>=1,AND($H13>0,P$4+3<$E13+($G13-$E13+1)*$H13)),2,1),IF(AND(Suivi>=P$4,Suivi<P$4+7),3,0)) | Q13: =IF(AND(Q$4<=$G13,Q$4+6>=$E13),IF(OR($H13>=1,AND($H13>0,Q$4+3<$E13+($G13-$E13+1)*$H13)),2,1),IF(AND(Suivi>=Q$4,Suivi<Q$4+7),3,0)) | R13: =IF(AND(R$4<=$G13,R$4+6>=$E13),IF(OR($H13>=1,AND($H13>0,R$4+3<$E13+($G13-$E13+1)*$H13)),2,1),IF(AND(Suivi>=R$4,Suivi<R$4+7),3,0)) | S13: =IF(AND(S$4<=$G13,S$4+6>=$E13),IF(OR($H13>=1,AND($H13>0,S$4+3<$E13+($G13-$E13+1)*$H13)),2,1),IF(AND(Suivi>=S$4,Suivi<S$4+7),3,0)) | ... BO13: =IF(AND(BO$4<=$G13,BO$4+6>=$E13),IF(OR($H13>=1,AND($H13>0,BO$4+3<$E13+($G13-$E13+1)*$H13)),2,1),IF(AND(Suivi>=BO$4,Suivi<BO$4+7),3,0))
A14: 10 | B14: شبكة الكهرباء (تمديدات) | C14: شبكات | D14: كهربائي معتمد | E14: 46235 | F14: 21 | G14: =WORKDAY.INTL(E14,F14-1,Repos) | H14: 1 | I14: =IF(H14>=1,"مكتملة",IF(AND(Suivi>G14,H14<1),"متأخرة",IF(Suivi<E14,"لم تبدأ",IF(H14+0.15<(Suivi-E14)/MAX(1,G14-E14),"تحتاج متابعة","جارية")))) | J14: 950000 | L14: =IF(AND(L$4<=$G14,L$4+6>=$E14),IF(OR($H14>=1,AND($H14>0,L$4+3<$E14+($G14-$E14+1)*$H14)),2,1),IF(AND(Suivi>=L$4,Suivi<L$4+7),3,0)) | M14: =IF(AND(M$4<=$G14,M$4+6>=$E14),IF(OR($H14>=1,AND($H14>0,M$4+3<$E14+($G14-$E14+1)*$H14)),2,1),IF(AND(Suivi>=M$4,Suivi<M$4+7),3,0)) | N14: =IF(AND(N$4<=$G14,N$4+6>=$E14),IF(OR($H14>=1,AND($H14>0,N$4+3<$E14+($G14-$E14+1)*$H14)),2,1),IF(AND(Suivi>=N$4,Suivi<N$4+7),3,0)) | O14: =IF(AND(O$4<=$G14,O$4+6>=$E14),IF(OR($H14>=1,AND($H14>0,O$4+3<$E14+($G14-$E14+1)*$H14)),2,1),IF(AND(Suivi>=O$4,Suivi<O$4+7),3,0)) | P14: =IF(AND(P$4<=$G14,P$4+6>=$E14),IF(OR($H14>=1,AND($H14>0,P$4+3<$E14+($G14-$E14+1)*$H14)),2,1),IF(AND(Suivi>=P$4,Suivi<P$4+7),3,0)) | Q14: =IF(AND(Q$4<=$G14,Q$4+6>=$E14),IF(OR($H14>=1,AND($H14>0,Q$4+3<$E14+($G14-$E14+1)*$H14)),2,1),IF(AND(Suivi>=Q$4,Suivi<Q$4+7),3,0)) | R14: =IF(AND(R$4<=$G14,R$4+6>=$E14),IF(OR($H14>=1,AND($H14>0,R$4+3<$E14+($G14-$E14+1)*$H14)),2,1),IF(AND(Suivi>=R$4,Suivi<R$4+7),3,0)) | S14: =IF(AND(S$4<=$G14,S$4+6>=$E14),IF(OR($H14>=1,AND($H14>0,S$4+3<$E14+($G14-$E14+1)*$H14)),2,1),IF(AND(Suivi>=S$4,Suivi<S$4+7),3,0)) | ... BO14: =IF(AND(BO$4<=$G14,BO$4+6>=$E14),IF(OR($H14>=1,AND($H14>0,BO$4+3<$E14+($G14-$E14+1)*$H14)),2,1),IF(AND(Suivi>=BO$4,Suivi<BO$4+7),3,0))
A15: 11 | B15: السباكة والصرف الصحي | C15: شبكات | D15: فريق السباكة | E15: 46235 | F15: 21 | G15: =WORKDAY.INTL(E15,F15-1,Repos) | H15: 1 | I15: =IF(H15>=1,"مكتملة",IF(AND(Suivi>G15,H15<1),"متأخرة",IF(Suivi<E15,"لم تبدأ",IF(H15+0.15<(Suivi-E15)/MAX(1,G15-E15),"تحتاج متابعة","جارية")))) | J15: 880000 | L15: =IF(AND(L$4<=$G15,L$4+6>=$E15),IF(OR($H15>=1,AND($H15>0,L$4+3<$E15+($G15-$E15+1)*$H15)),2,1),IF(AND(Suivi>=L$4,Suivi<L$4+7),3,0)) | M15: =IF(AND(M$4<=$G15,M$4+6>=$E15),IF(OR($H15>=1,AND($H15>0,M$4+3<$E15+($G15-$E15+1)*$H15)),2,1),IF(AND(Suivi>=M$4,Suivi<M$4+7),3,0)) | N15: =IF(AND(N$4<=$G15,N$4+6>=$E15),IF(OR($H15>=1,AND($H15>0,N$4+3<$E15+($G15-$E15+1)*$H15)),2,1),IF(AND(Suivi>=N$4,Suivi<N$4+7),3,0)) | O15: =IF(AND(O$4<=$G15,O$4+6>=$E15),IF(OR($H15>=1,AND($H15>0,O$4+3<$E15+($G15-$E15+1)*$H15)),2,1),IF(AND(Suivi>=O$4,Suivi<O$4+7),3,0)) | P15: =IF(AND(P$4<=$G15,P$4+6>=$E15),IF(OR($H15>=1,AND($H15>0,P$4+3<$E15+($G15-$E15+1)*$H15)),2,1),IF(AND(Suivi>=P$4,Suivi<P$4+7),3,0)) | Q15: =IF(AND(Q$4<=$G15,Q$4+6>=$E15),IF(OR($H15>=1,AND($H15>0,Q$4+3<$E15+($G15-$E15+1)*$H15)),2,1),IF(AND(Suivi>=Q$4,Suivi<Q$4+7),3,0)) | R15: =IF(AND(R$4<=$G15,R$4+6>=$E15),IF(OR($H15>=1,AND($H15>0,R$4+3<$E15+($G15-$E15+1)*$H15)),2,1),IF(AND(Suivi>=R$4,Suivi<R$4+7),3,0)) | S15: =IF(AND(S$4<=$G15,S$4+6>=$E15),IF(OR($H15>=1,AND($H15>0,S$4+3<$E15+($G15-$E15+1)*$H15)),2,1),IF(AND(Suivi>=S$4,Suivi<S$4+7),3,0)) | ... BO15: =IF(AND(BO$4<=$G15,BO$4+6>=$E15),IF(OR($H15>=1,AND($H15>0,BO$4+3<$E15+($G15-$E15+1)*$H15)),2,1),IF(AND(Suivi>=BO$4,Suivi<BO$4+7),3,0))
A16: 12 | B16: التدفئة والتكييف | C16: شبكات | D16: فريق التكييف | E16: 46259 | F16: 15 | G16: =WORKDAY.INTL(E16,F16-1,Repos) | H16: 1 | I16: =IF(H16>=1,"مكتملة",IF(AND(Suivi>G16,H16<1),"متأخرة",IF(Suivi<E16,"لم تبدأ",IF(H16+0.15<(Suivi-E16)/MAX(1,G16-E16),"تحتاج متابعة","جارية")))) | J16: 1150000 | L16: =IF(AND(L$4<=$G16,L$4+6>=$E16),IF(OR($H16>=1,AND($H16>0,L$4+3<$E16+($G16-$E16+1)*$H16)),2,1),IF(AND(Suivi>=L$4,Suivi<L$4+7),3,0)) | M16: =IF(AND(M$4<=$G16,M$4+6>=$E16),IF(OR($H16>=1,AND($H16>0,M$4+3<$E16+($G16-$E16+1)*$H16)),2,1),IF(AND(Suivi>=M$4,Suivi<M$4+7),3,0)) | N16: =IF(AND(N$4<=$G16,N$4+6>=$E16),IF(OR($H16>=1,AND($H16>0,N$4+3<$E16+($G16-$E16+1)*$H16)),2,1),IF(AND(Suivi>=N$4,Suivi<N$4+7),3,0)) | O16: =IF(AND(O$4<=$G16,O$4+6>=$E16),IF(OR($H16>=1,AND($H16>0,O$4+3<$E16+($G16-$E16+1)*$H16)),2,1),IF(AND(Suivi>=O$4,Suivi<O$4+7),3,0)) | P16: =IF(AND(P$4<=$G16,P$4+6>=$E16),IF(OR($H16>=1,AND($H16>0,P$4+3<$E16+($G16-$E16+1)*$H16)),2,1),IF(AND(Suivi>=P$4,Suivi<P$4+7),3,0)) | Q16: =IF(AND(Q$4<=$G16,Q$4+6>=$E16),IF(OR($H16>=1,AND($H16>0,Q$4+3<$E16+($G16-$E16+1)*$H16)),2,1),IF(AND(Suivi>=Q$4,Suivi<Q$4+7),3,0)) | R16: =IF(AND(R$4<=$G16,R$4+6>=$E16),IF(OR($H16>=1,AND($H16>0,R$4+3<$E16+($G16-$E16+1)*$H16)),2,1),IF(AND(Suivi>=R$4,Suivi<R$4+7),3,0)) | S16: =IF(AND(S$4<=$G16,S$4+6>=$E16),IF(OR($H16>=1,AND($H16>0,S$4+3<$E16+($G16-$E16+1)*$H16)),2,1),IF(AND(Suivi>=S$4,Suivi<S$4+7),3,0)) | ... BO16: =IF(AND(BO$4<=$G16,BO$4+6>=$E16),IF(OR($H16>=1,AND($H16>0,BO$4+3<$E16+($G16-$E16+1)*$H16)),2,1),IF(AND(Suivi>=BO$4,Suivi<BO$4+7),3,0))
... A24: 20 | B24: الاستلام وتسليم المفاتيح | C24: تهيئة خارجية | D24: مكتب نخلة | E24: 46385 | F24: 6 | G24: =WORKDAY.INTL(E24,F24-1,Repos) | H24: 0 | I24: =IF(H24>=1,"مكتملة",IF(AND(Suivi>G24,H24<1),"متأخرة",IF(Suivi<E24,"لم تبدأ",IF(H24+0.15<(Suivi-E24)/MAX(1,G24-E24),"تحتاج متابعة","جارية")))) | J24: 0 | L24: =IF(AND(L$4<=$G24,L$4+6>=$E24),IF(OR($H24>=1,AND($H24>0,L$4+3<$E24+($G24-$E24+1)*$H24)),2,1),IF(AND(Suivi>=L$4,Suivi<L$4+7),3,0)) | M24: =IF(AND(M$4<=$G24,M$4+6>=$E24),IF(OR($H24>=1,AND($H24>0,M$4+3<$E24+($G24-$E24+1)*$H24)),2,1),IF(AND(Suivi>=M$4,Suivi<M$4+7),3,0)) | N24: =IF(AND(N$4<=$G24,N$4+6>=$E24),IF(OR($H24>=1,AND($H24>0,N$4+3<$E24+($G24-$E24+1)*$H24)),2,1),IF(AND(Suivi>=N$4,Suivi<N$4+7),3,0)) | O24: =IF(AND(O$4<=$G24,O$4+6>=$E24),IF(OR($H24>=1,AND($H24>0,O$4+3<$E24+($G24-$E24+1)*$H24)),2,1),IF(AND(Suivi>=O$4,Suivi<O$4+7),3,0)) | P24: =IF(AND(P$4<=$G24,P$4+6>=$E24),IF(OR($H24>=1,AND($H24>0,P$4+3<$E24+($G24-$E24+1)*$H24)),2,1),IF(AND(Suivi>=P$4,Suivi<P$4+7),3,0)) | Q24: =IF(AND(Q$4<=$G24,Q$4+6>=$E24),IF(OR($H24>=1,AND($H24>0,Q$4+3<$E24+($G24-$E24+1)*$H24)),2,1),IF(AND(Suivi>=Q$4,Suivi<Q$4+7),3,0)) | R24: =IF(AND(R$4<=$G24,R$4+6>=$E24),IF(OR($H24>=1,AND($H24>0,R$4+3<$E24+($G24-$E24+1)*$H24)),2,1),IF(AND(Suivi>=R$4,Suivi<R$4+7),3,0)) | S24: =IF(AND(S$4<=$G24,S$4+6>=$E24),IF(OR($H24>=1,AND($H24>0,S$4+3<$E24+($G24-$E24+1)*$H24)),2,1),IF(AND(Suivi>=S$4,Suivi<S$4+7),3,0)) | ... BO24: =IF(AND(BO$4<=$G24,BO$4+6>=$E24),IF(OR($H24>=1,AND($H24>0,BO$4+3<$E24+($G24-$E24+1)*$H24)),2,1),IF(AND(Suivi>=BO$4,Suivi<BO$4+7),3,0))
B26: مفتاح الألوان: | M26: منجز | S26: متبقٍ مخطط | Y26: متأخر | AE26: أسبوع المتابعة

Sheet الميزانية
A1: الميزانية حسب الحصة: المخطط مقابل المصروف
A3: الحصة | B3: الميزانية | C3: المصروف | D3: القيمة المنجزة | E3: الفارق (منجز − مصروف) | F3: نسبة الاستهلاك | G3: التوقع عند الإنهاء | H3: التجاوز المتوقع
A4: دراسات وتراخيص | B4: =SUMIFS('المخطط الزمني'!$J$5:$J$24,'المخطط الزمني'!$C$5:$C$24,A4) | C4: =SUMIFS(المصاريف!$E:$E,المصاريف!$B:$B,A4) | D4: =SUMPRODUCT(('المخطط الزمني'!$C$5:$C$24=A4)*'المخطط الزمني'!$J$5:$J$24*'المخطط الزمني'!$H$5:$H$24) | E4: =D4-C4 | F4: =IF(B4=0,0,C4/B4) | G4: =IF(D4=0,B4,B4*C4/D4) | H4: =G4-B4
A5: أشغال كبرى | B5: =SUMIFS('المخطط الزمني'!$J$5:$J$24,'المخطط الزمني'!$C$5:$C$24,A5) | C5: =SUMIFS(المصاريف!$E:$E,المصاريف!$B:$B,A5) | D5: =SUMPRODUCT(('المخطط الزمني'!$C$5:$C$24=A5)*'المخطط الزمني'!$J$5:$J$24*'المخطط الزمني'!$H$5:$H$24) | E5: =D5-C5 | F5: =IF(B5=0,0,C5/B5) | G5: =IF(D5=0,B5,B5*C5/D5) | H5: =G5-B5
A6: بناء وعزل | B6: =SUMIFS('المخطط الزمني'!$J$5:$J$24,'المخطط الزمني'!$C$5:$C$24,A6) | C6: =SUMIFS(المصاريف!$E:$E,المصاريف!$B:$B,A6) | D6: =SUMPRODUCT(('المخطط الزمني'!$C$5:$C$24=A6)*'المخطط الزمني'!$J$5:$J$24*'المخطط الزمني'!$H$5:$H$24) | E6: =D6-C6 | F6: =IF(B6=0,0,C6/B6) | G6: =IF(D6=0,B6,B6*C6/D6) | H6: =G6-B6
A7: شبكات | B7: =SUMIFS('المخطط الزمني'!$J$5:$J$24,'المخطط الزمني'!$C$5:$C$24,A7) | C7: =SUMIFS(المصاريف!$E:$E,المصاريف!$B:$B,A7) | D7: =SUMPRODUCT(('المخطط الزمني'!$C$5:$C$24=A7)*'المخطط الزمني'!$J$5:$J$24*'المخطط الزمني'!$H$5:$H$24) | E7: =D7-C7 | F7: =IF(B7=0,0,C7/B7) | G7: =IF(D7=0,B7,B7*C7/D7) | H7: =G7-B7
A8: نجارة وألمنيوم | B8: =SUMIFS('المخطط الزمني'!$J$5:$J$24,'المخطط الزمني'!$C$5:$C$24,A8) | C8: =SUMIFS(المصاريف!$E:$E,المصاريف!$B:$B,A8) | D8: =SUMPRODUCT(('المخطط الزمني'!$C$5:$C$24=A8)*'المخطط الزمني'!$J$5:$J$24*'المخطط الزمني'!$H$5:$H$24) | E8: =D8-C8 | F8: =IF(B8=0,0,C8/B8) | G8: =IF(D8=0,B8,B8*C8/D8) | H8: =G8-B8
A9: تشطيبات | B9: =SUMIFS('المخطط الزمني'!$J$5:$J$24,'المخطط الزمني'!$C$5:$C$24,A9) | C9: =SUMIFS(المصاريف!$E:$E,المصاريف!$B:$B,A9) | D9: =SUMPRODUCT(('المخطط الزمني'!$C$5:$C$24=A9)*'المخطط الزمني'!$J$5:$J$24*'المخطط الزمني'!$H$5:$H$24) | E9: =D9-C9 | F9: =IF(B9=0,0,C9/B9) | G9: =IF(D9=0,B9,B9*C9/D9) | H9: =G9-B9
A10: تهيئة خارجية | B10: =SUMIFS('المخطط الزمني'!$J$5:$J$24,'المخطط الزمني'!$C$5:$C$24,A10) | C10: =SUMIFS(المصاريف!$E:$E,المصاريف!$B:$B,A10) | D10: =SUMPRODUCT(('المخطط الزمني'!$C$5:$C$24=A10)*'المخطط الزمني'!$J$5:$J$24*'المخطط الزمني'!$H$5:$H$24) | E10: =D10-C10 | F10: =IF(B10=0,0,C10/B10) | G10: =IF(D10=0,B10,B10*C10/D10) | H10: =G10-B10
A11: المجموع | B11: =SUM(B4:B10) | C11: =SUM(C4:C10) | D11: =SUM(D4:D10) | E11: =SUM(E4:E10) | F11: =IF(B11=0,0,C11/B11) | G11: =SUM(G4:G10) | H11: =SUM(H4:H10)
A12: احتياطي الطوارئ | B12: =B11*Aleas
A13: الغلاف الإجمالي | B13: =B11+B12

Sheet المصاريف
A1: التاريخ | B1: الحصة | C1: المورد / المقاول | D1: البيان | E1: المبلغ | F1: طريقة الدفع
A2: 46086 | B2: دراسات وتراخيص | C2: الإدارة المحلية | D2: الدراسة المعمارية والهندسية | E2: 171000 | F2: نقدًا
A3: 46094 | B3: دراسات وتراخيص | C3: مكتب الدراسات | D3: الدراسة المعمارية والهندسية | E3: 171000 | F3: صك
A4: 46101 | B4: دراسات وتراخيص | C4: مكتب الدراسات | D4: الدراسة المعمارية والهندسية | E4: 171000 | F4: نقدًا
A5: 46109 | B5: دراسات وتراخيص | C5: مكتب الدراسات | D5: الدراسة المعمارية والهندسية | E5: 171000 | F5: تحويل بنكي
A6: 46117 | B6: دراسات وتراخيص | C6: الإدارة المحلية | D6: رخصة البناء والملف الإداري | E6: 23000 | F6: تحويل بنكي
A7: 46124 | B7: دراسات وتراخيص | C7: الإدارة المحلية | D7: رخصة البناء والملف الإداري | E7: 23000 | F7: نقدًا
A8: 46131 | B8: دراسات وتراخيص | C8: مكتب الدراسات | D8: رخصة البناء والملف الإداري | E8: 23000 | F8: نقدًا
A9: 46137 | B9: دراسات وتراخيص | C9: مكتب الدراسات | D9: رخصة البناء والملف الإداري | E9: 23000 | F9: تحويل بنكي
A10: 46144 | B10: دراسات وتراخيص | C10: مكتب الدراسات | D10: رخصة البناء والملف الإداري | E10: 23000 | F10: صك
A11: 46152 | B11: أشغال كبرى | C11: مورد الحديد | D11: تهيئة الأرضية والحفر | E11: 386000 | F11: تحويل بنكي
A12: 46158 | B12: أشغال كبرى | C12: مؤسسة الخرسانة الجاهزة | D12: تهيئة الأرضية والحفر | E12: 386000 | F12: تحويل بنكي
A13: 46167 | B13: أشغال كبرى | C13: مورد الحديد | D13: الأساسات والقواعد | E13: 911000 | F13: تحويل بنكي
... A60: 46322 | B60: تهيئة خارجية | C60: فريق التهيئة | D60: الواجهة والتهيئة الخارجية | E60: 64000 | F60: صك

Sheet الإعدادات
A1: إعدادات المشروع
A3: اسم المشروع | B3: فيلا R+2 — الشراقة، الجزائر (مثال تجريبي)
A4: صاحب المشروع | B4: عميل افتراضي
A5: تاريخ الانطلاق | B5: 46083
A6: تاريخ المتابعة | B6: 46324 | C6: استبدلها بـ ‎=TODAY()‎ عند الاستخدام الفعلي
A7: أيام العطلة الأسبوعية | B7: 0000100 | C7: سبعة أرقام من الإثنين إلى الأحد، 1 = يوم عطلة (هنا الجمعة)
A8: الأجل التعاقدي | B8: 46477
A9: هامش الطوارئ | B9: 0.07
A12: الحصص
A13: دراسات وتراخيص
A14: أشغال كبرى
A15: بناء وعزل
A16: شبكات
A17: نجارة وألمنيوم
A18: تشطيبات
A19: تهيئة خارجية
